BEGIN:VCALENDAR
VERSION:2.0
PRODID:-//Michael Petrovich - ECPv5.14.1//NONSGML v1.0//EN
CALSCALE:GREGORIAN
METHOD:PUBLISH
X-WR-CALNAME:Michael Petrovich
X-ORIGINAL-URL:https://mikepetrovichmusic.com
X-WR-CALDESC:Events for Michael Petrovich
REFRESH-INTERVAL;VALUE=DURATION:PT1H
X-Robots-Tag:noindex
X-PUBLISHED-TTL:PT1H
BEGIN:VTIMEZONE
TZID:America/New_York
BEGIN:DAYLIGHT
TZOFFSETFROM:-0500
TZOFFSETTO:-0400
TZNAME:EDT
DTSTART:20240310T070000
END:DAYLIGHT
BEGIN:STANDARD
TZOFFSETFROM:-0400
TZOFFSETTO:-0500
TZNAME:EST
DTSTART:20241103T060000
END:STANDARD
END:VTIMEZONE
BEGIN:VEVENT
DTSTART;TZID=America/New_York:20241201T120000
DTEND;TZID=America/New_York:20241201T150000
DTSTAMP:20260425T105622
CREATED:20241121T013029Z
LAST-MODIFIED:20241121T013029Z
UID:5125-1733054400-1733065200@mikepetrovichmusic.com
SUMMARY:The Vineyard Wine Company
DESCRIPTION:
URL:https://mikepetrovichmusic.com/event/the-vineyard-wine-company-140/
LOCATION:The Vineyard Wine Company\, 1140 Townpark Ave\, Suite 1260\, Lake Mary\, FL\, 32746\, United States
ATTACH;FMTTYPE=image/jpeg:https://mikepetrovichmusic.com/wp-content/uploads/2016/03/The-Vineyard-Wine-Company.jpg
END:VEVENT
BEGIN:VEVENT
DTSTART;TZID=America/New_York:20241205T190000
DTEND;TZID=America/New_York:20241205T230000
DTSTAMP:20260425T105622
CREATED:20241121T013203Z
LAST-MODIFIED:20241121T014937Z
UID:5135-1733425200-1733439600@mikepetrovichmusic.com
SUMMARY:The Wave Hotel Lobby Bar
DESCRIPTION:
URL:https://mikepetrovichmusic.com/event/the-wave-hotel-bar-5/
LOCATION:Lake Nona Wave Hotel\, 6100 Wave Hotel Drive\, Orlando\, FL\, 32827\, United States
ATTACH;FMTTYPE=image/jpeg:https://mikepetrovichmusic.com/wp-content/uploads/2024/11/The-Wave.jpeg
END:VEVENT
BEGIN:VEVENT
DTSTART;TZID=America/New_York:20241206T183000
DTEND;TZID=America/New_York:20241206T213000
DTSTAMP:20260425T105622
CREATED:20241121T012906Z
LAST-MODIFIED:20241121T012906Z
UID:5117-1733509800-1733520600@mikepetrovichmusic.com
SUMMARY:Caffe Positano
DESCRIPTION:
URL:https://mikepetrovichmusic.com/event/caffe-positano-142/
LOCATION:Caffe Positano\, 3030 E Semoran Blvd\, Apopka\, FL\, 32703\, United States
ATTACH;FMTTYPE=image/jpeg:https://mikepetrovichmusic.com/wp-content/uploads/2015/08/Cafe-Positano-e1441037803689.jpeg
END:VEVENT
BEGIN:VEVENT
DTSTART;TZID=America/New_York:20241208T120000
DTEND;TZID=America/New_York:20241208T150000
DTSTAMP:20260425T105622
CREATED:20241121T013044Z
LAST-MODIFIED:20241121T013044Z
UID:5127-1733659200-1733670000@mikepetrovichmusic.com
SUMMARY:The Vineyard Wine Company
DESCRIPTION:
URL:https://mikepetrovichmusic.com/event/the-vineyard-wine-company-141/
LOCATION:The Vineyard Wine Company\, 1140 Townpark Ave\, Suite 1260\, Lake Mary\, FL\, 32746\, United States
ATTACH;FMTTYPE=image/jpeg:https://mikepetrovichmusic.com/wp-content/uploads/2016/03/The-Vineyard-Wine-Company.jpg
END:VEVENT
BEGIN:VEVENT
DTSTART;TZID=America/New_York:20241209T110000
DTEND;TZID=America/New_York:20241209T140000
DTSTAMP:20260425T105622
CREATED:20250122T030058Z
LAST-MODIFIED:20250122T030058Z
UID:5225-1733742000-1733752800@mikepetrovichmusic.com
SUMMARY:Orlando International Airport - Universal Orlando Store (Terminal B)
DESCRIPTION:
URL:https://mikepetrovichmusic.com/event/orlando-international-airport-universal-orlando-store-terminal-b-2/
LOCATION:Orlando International Airport\, 1 Jeff Fuqua Blvd\, Orlando\, FL\, 32827\, United States
ATTACH;FMTTYPE=image/png:https://mikepetrovichmusic.com/wp-content/uploads/2024/11/Orlando-International-Airport.png
END:VEVENT
BEGIN:VEVENT
DTSTART;TZID=America/New_York:20241212T190000
DTEND;TZID=America/New_York:20241212T230000
DTSTAMP:20260425T105622
CREATED:20241121T013215Z
LAST-MODIFIED:20241121T014904Z
UID:5137-1734030000-1734044400@mikepetrovichmusic.com
SUMMARY:The Wave Hotel Lobby Bar
DESCRIPTION:
URL:https://mikepetrovichmusic.com/event/the-wave-hotel-bar-6/
LOCATION:Lake Nona Wave Hotel\, 6100 Wave Hotel Drive\, Orlando\, FL\, 32827\, United States
ATTACH;FMTTYPE=image/jpeg:https://mikepetrovichmusic.com/wp-content/uploads/2024/11/The-Wave.jpeg
END:VEVENT
BEGIN:VEVENT
DTSTART;TZID=America/New_York:20241213T183000
DTEND;TZID=America/New_York:20241213T213000
DTSTAMP:20260425T105622
CREATED:20241121T012921Z
LAST-MODIFIED:20241121T012921Z
UID:5119-1734114600-1734125400@mikepetrovichmusic.com
SUMMARY:Caffe Positano
DESCRIPTION:
URL:https://mikepetrovichmusic.com/event/caffe-positano-143/
LOCATION:Caffe Positano\, 3030 E Semoran Blvd\, Apopka\, FL\, 32703\, United States
ATTACH;FMTTYPE=image/jpeg:https://mikepetrovichmusic.com/wp-content/uploads/2015/08/Cafe-Positano-e1441037803689.jpeg
END:VEVENT
BEGIN:VEVENT
DTSTART;TZID=America/New_York:20241215T120000
DTEND;TZID=America/New_York:20241215T150000
DTSTAMP:20260425T105622
CREATED:20241121T013058Z
LAST-MODIFIED:20241121T013058Z
UID:5129-1734264000-1734274800@mikepetrovichmusic.com
SUMMARY:The Vineyard Wine Company
DESCRIPTION:
URL:https://mikepetrovichmusic.com/event/the-vineyard-wine-company-142/
LOCATION:The Vineyard Wine Company\, 1140 Townpark Ave\, Suite 1260\, Lake Mary\, FL\, 32746\, United States
ATTACH;FMTTYPE=image/jpeg:https://mikepetrovichmusic.com/wp-content/uploads/2016/03/The-Vineyard-Wine-Company.jpg
END:VEVENT
BEGIN:VEVENT
DTSTART;TZID=America/New_York:20241219T190000
DTEND;TZID=America/New_York:20241219T230000
DTSTAMP:20260425T105622
CREATED:20241121T013226Z
LAST-MODIFIED:20241121T014838Z
UID:5139-1734634800-1734649200@mikepetrovichmusic.com
SUMMARY:The Wave Hotel Lobby Bar
DESCRIPTION:
URL:https://mikepetrovichmusic.com/event/the-wave-hotel-bar-7/
LOCATION:Lake Nona Wave Hotel\, 6100 Wave Hotel Drive\, Orlando\, FL\, 32827\, United States
ATTACH;FMTTYPE=image/jpeg:https://mikepetrovichmusic.com/wp-content/uploads/2024/11/The-Wave.jpeg
END:VEVENT
BEGIN:VEVENT
DTSTART;TZID=America/New_York:20241220T183000
DTEND;TZID=America/New_York:20241220T213000
DTSTAMP:20260425T105622
CREATED:20241121T012947Z
LAST-MODIFIED:20241121T012947Z
UID:5121-1734719400-1734730200@mikepetrovichmusic.com
SUMMARY:Caffe Positano
DESCRIPTION:
URL:https://mikepetrovichmusic.com/event/caffe-positano-144/
LOCATION:Caffe Positano\, 3030 E Semoran Blvd\, Apopka\, FL\, 32703\, United States
ATTACH;FMTTYPE=image/jpeg:https://mikepetrovichmusic.com/wp-content/uploads/2015/08/Cafe-Positano-e1441037803689.jpeg
END:VEVENT
BEGIN:VEVENT
DTSTART;TZID=America/New_York:20241222T120000
DTEND;TZID=America/New_York:20241222T150000
DTSTAMP:20260425T105622
CREATED:20241121T013120Z
LAST-MODIFIED:20241121T013120Z
UID:5131-1734868800-1734879600@mikepetrovichmusic.com
SUMMARY:The Vineyard Wine Company
DESCRIPTION:
URL:https://mikepetrovichmusic.com/event/the-vineyard-wine-company-143/
LOCATION:The Vineyard Wine Company\, 1140 Townpark Ave\, Suite 1260\, Lake Mary\, FL\, 32746\, United States
ATTACH;FMTTYPE=image/jpeg:https://mikepetrovichmusic.com/wp-content/uploads/2016/03/The-Vineyard-Wine-Company.jpg
END:VEVENT
BEGIN:VEVENT
DTSTART;TZID=America/New_York:20241226T190000
DTEND;TZID=America/New_York:20241226T230000
DTSTAMP:20260425T105622
CREATED:20241121T013238Z
LAST-MODIFIED:20241121T014808Z
UID:5142-1735239600-1735254000@mikepetrovichmusic.com
SUMMARY:The Wave Hotel Lobby Bar
DESCRIPTION:
URL:https://mikepetrovichmusic.com/event/the-wave-hotel-bar-8/
LOCATION:Lake Nona Wave Hotel\, 6100 Wave Hotel Drive\, Orlando\, FL\, 32827\, United States
ATTACH;FMTTYPE=image/jpeg:https://mikepetrovichmusic.com/wp-content/uploads/2024/11/The-Wave.jpeg
END:VEVENT
BEGIN:VEVENT
DTSTART;TZID=America/New_York:20241227T183000
DTEND;TZID=America/New_York:20241227T213000
DTSTAMP:20260425T105622
CREATED:20241121T013005Z
LAST-MODIFIED:20241121T013005Z
UID:5123-1735324200-1735335000@mikepetrovichmusic.com
SUMMARY:Caffe Positano
DESCRIPTION:
URL:https://mikepetrovichmusic.com/event/caffe-positano-145/
LOCATION:Caffe Positano\, 3030 E Semoran Blvd\, Apopka\, FL\, 32703\, United States
ATTACH;FMTTYPE=image/jpeg:https://mikepetrovichmusic.com/wp-content/uploads/2015/08/Cafe-Positano-e1441037803689.jpeg
END:VEVENT
BEGIN:VEVENT
DTSTART;TZID=America/New_York:20241229T120000
DTEND;TZID=America/New_York:20241229T150000
DTSTAMP:20260425T105623
CREATED:20241121T013136Z
LAST-MODIFIED:20241121T013136Z
UID:5133-1735473600-1735484400@mikepetrovichmusic.com
SUMMARY:The Vineyard Wine Company
DESCRIPTION:
URL:https://mikepetrovichmusic.com/event/the-vineyard-wine-company-144/
LOCATION:The Vineyard Wine Company\, 1140 Townpark Ave\, Suite 1260\, Lake Mary\, FL\, 32746\, United States
ATTACH;FMTTYPE=image/jpeg:https://mikepetrovichmusic.com/wp-content/uploads/2016/03/The-Vineyard-Wine-Company.jpg
END:VEVENT
END:VCALENDAR