BEGIN:VCALENDAR
VERSION:2.0
PRODID:-//Michael Petrovich - ECPv5.14.1//NONSGML v1.0//EN
CALSCALE:GREGORIAN
METHOD:PUBLISH
X-WR-CALNAME:Michael Petrovich
X-ORIGINAL-URL:https://mikepetrovichmusic.com
X-WR-CALDESC:Events for Michael Petrovich
REFRESH-INTERVAL;VALUE=DURATION:PT1H
X-Robots-Tag:noindex
X-PUBLISHED-TTL:PT1H
BEGIN:VTIMEZONE
TZID:America/New_York
BEGIN:DAYLIGHT
TZOFFSETFROM:-0500
TZOFFSETTO:-0400
TZNAME:EDT
DTSTART:20260308T070000
END:DAYLIGHT
BEGIN:STANDARD
TZOFFSETFROM:-0400
TZOFFSETTO:-0500
TZNAME:EST
DTSTART:20261101T060000
END:STANDARD
END:VTIMEZONE
BEGIN:VEVENT
DTSTART;TZID=America/New_York:20260417T183000
DTEND;TZID=America/New_York:20260417T213000
DTSTAMP:20260424T054621
CREATED:20260423T195351Z
LAST-MODIFIED:20260423T195351Z
UID:5617-1776450600-1776461400@mikepetrovichmusic.com
SUMMARY:Caffe Positano
DESCRIPTION:
URL:https://mikepetrovichmusic.com/event/caffe-positano-210/
LOCATION:Caffe Positano\, 3030 E Semoran Blvd\, Apopka\, FL\, 32703\, United States
ATTACH;FMTTYPE=image/jpeg:https://mikepetrovichmusic.com/wp-content/uploads/2015/08/Cafe-Positano-e1441037803689.jpeg
END:VEVENT
BEGIN:VEVENT
DTSTART;TZID=America/New_York:20260418T160000
DTEND;TZID=America/New_York:20260418T190000
DTSTAMP:20260424T054621
CREATED:20260422T021053Z
LAST-MODIFIED:20260422T021053Z
UID:5603-1776528000-1776538800@mikepetrovichmusic.com
SUMMARY:Orlando International Airport - Terminal C Level 2 Departures
DESCRIPTION:
URL:https://mikepetrovichmusic.com/event/orlando-international-airport-terminal-c-level-2-departures-7/
LOCATION:Orlando International Airport\, 1 Jeff Fuqua Blvd\, Orlando\, FL\, 32827\, United States
ATTACH;FMTTYPE=image/png:https://mikepetrovichmusic.com/wp-content/uploads/2024/11/Orlando-International-Airport.png
END:VEVENT
BEGIN:VEVENT
DTSTART;TZID=America/New_York:20260424T183000
DTEND;TZID=America/New_York:20260424T213000
DTSTAMP:20260424T054621
CREATED:20260423T195454Z
LAST-MODIFIED:20260423T195454Z
UID:5619-1777055400-1777066200@mikepetrovichmusic.com
SUMMARY:Caffe Positano
DESCRIPTION:
URL:https://mikepetrovichmusic.com/event/caffe-positano-211/
LOCATION:Caffe Positano\, 3030 E Semoran Blvd\, Apopka\, FL\, 32703\, United States
ATTACH;FMTTYPE=image/jpeg:https://mikepetrovichmusic.com/wp-content/uploads/2015/08/Cafe-Positano-e1441037803689.jpeg
END:VEVENT
BEGIN:VEVENT
DTSTART;TZID=America/New_York:20260501T183000
DTEND;TZID=America/New_York:20260501T213000
DTSTAMP:20260424T054621
CREATED:20260423T195551Z
LAST-MODIFIED:20260423T195551Z
UID:5621-1777660200-1777671000@mikepetrovichmusic.com
SUMMARY:Caffe Positano
DESCRIPTION:
URL:https://mikepetrovichmusic.com/event/caffe-positano-212/
LOCATION:Caffe Positano\, 3030 E Semoran Blvd\, Apopka\, FL\, 32703\, United States
ATTACH;FMTTYPE=image/jpeg:https://mikepetrovichmusic.com/wp-content/uploads/2015/08/Cafe-Positano-e1441037803689.jpeg
END:VEVENT
BEGIN:VEVENT
DTSTART;TZID=America/New_York:20260504T160000
DTEND;TZID=America/New_York:20260504T190000
DTSTAMP:20260424T054621
CREATED:20260422T021223Z
LAST-MODIFIED:20260422T021223Z
UID:5605-1777910400-1777921200@mikepetrovichmusic.com
SUMMARY:Orlando International Airport - Terminal C Level 2 Departures
DESCRIPTION:
URL:https://mikepetrovichmusic.com/event/orlando-international-airport-terminal-c-level-2-departures-8/
LOCATION:Orlando International Airport\, 1 Jeff Fuqua Blvd\, Orlando\, FL\, 32827\, United States
ATTACH;FMTTYPE=image/png:https://mikepetrovichmusic.com/wp-content/uploads/2024/11/Orlando-International-Airport.png
END:VEVENT
BEGIN:VEVENT
DTSTART;TZID=America/New_York:20260508T183000
DTEND;TZID=America/New_York:20260508T213000
DTSTAMP:20260424T054621
CREATED:20260423T195724Z
LAST-MODIFIED:20260423T195724Z
UID:5623-1778265000-1778275800@mikepetrovichmusic.com
SUMMARY:Caffe Positano
DESCRIPTION:
URL:https://mikepetrovichmusic.com/event/caffe-positano-213/
LOCATION:Caffe Positano\, 3030 E Semoran Blvd\, Apopka\, FL\, 32703\, United States
ATTACH;FMTTYPE=image/jpeg:https://mikepetrovichmusic.com/wp-content/uploads/2015/08/Cafe-Positano-e1441037803689.jpeg
END:VEVENT
BEGIN:VEVENT
DTSTART;TZID=America/New_York:20260515T183000
DTEND;TZID=America/New_York:20260515T213000
DTSTAMP:20260424T054621
CREATED:20260423T195810Z
LAST-MODIFIED:20260423T195810Z
UID:5625-1778869800-1778880600@mikepetrovichmusic.com
SUMMARY:Caffe Positano
DESCRIPTION:
URL:https://mikepetrovichmusic.com/event/caffe-positano-214/
LOCATION:Caffe Positano\, 3030 E Semoran Blvd\, Apopka\, FL\, 32703\, United States
ATTACH;FMTTYPE=image/jpeg:https://mikepetrovichmusic.com/wp-content/uploads/2015/08/Cafe-Positano-e1441037803689.jpeg
END:VEVENT
BEGIN:VEVENT
DTSTART;TZID=America/New_York:20260522T183000
DTEND;TZID=America/New_York:20260522T213000
DTSTAMP:20260424T054621
CREATED:20260423T195909Z
LAST-MODIFIED:20260423T195909Z
UID:5627-1779474600-1779485400@mikepetrovichmusic.com
SUMMARY:Caffe Positano
DESCRIPTION:
URL:https://mikepetrovichmusic.com/event/caffe-positano-215/
LOCATION:Caffe Positano\, 3030 E Semoran Blvd\, Apopka\, FL\, 32703\, United States
ATTACH;FMTTYPE=image/jpeg:https://mikepetrovichmusic.com/wp-content/uploads/2015/08/Cafe-Positano-e1441037803689.jpeg
END:VEVENT
BEGIN:VEVENT
DTSTART;TZID=America/New_York:20260529T183000
DTEND;TZID=America/New_York:20260529T213000
DTSTAMP:20260424T054621
CREATED:20260423T200011Z
LAST-MODIFIED:20260423T200011Z
UID:5629-1780079400-1780090200@mikepetrovichmusic.com
SUMMARY:Caffe Positano
DESCRIPTION:
URL:https://mikepetrovichmusic.com/event/caffe-positano-216/
LOCATION:Caffe Positano\, 3030 E Semoran Blvd\, Apopka\, FL\, 32703\, United States
ATTACH;FMTTYPE=image/jpeg:https://mikepetrovichmusic.com/wp-content/uploads/2015/08/Cafe-Positano-e1441037803689.jpeg
END:VEVENT
BEGIN:VEVENT
DTSTART;TZID=America/New_York:20260620T110000
DTEND;TZID=America/New_York:20260620T140000
DTSTAMP:20260424T054621
CREATED:20260422T021625Z
LAST-MODIFIED:20260422T021734Z
UID:5609-1781953200-1781964000@mikepetrovichmusic.com
SUMMARY:Orlando International Airport - Food Court (B-Side)
DESCRIPTION:
URL:https://mikepetrovichmusic.com/event/orlando-international-airport-food-court-a-side-2/
LOCATION:Orlando International Airport\, 1 Jeff Fuqua Blvd\, Orlando\, FL\, 32827\, United States
ATTACH;FMTTYPE=image/png:https://mikepetrovichmusic.com/wp-content/uploads/2024/11/Orlando-International-Airport.png
END:VEVENT
END:VCALENDAR