BEGIN:VCALENDAR
VERSION:2.0
PRODID:-//Michael Petrovich - ECPv5.14.1//NONSGML v1.0//EN
CALSCALE:GREGORIAN
METHOD:PUBLISH
X-WR-CALNAME:Michael Petrovich
X-ORIGINAL-URL:https://mikepetrovichmusic.com
X-WR-CALDESC:Events for Michael Petrovich
REFRESH-INTERVAL;VALUE=DURATION:PT1H
X-Robots-Tag:noindex
X-PUBLISHED-TTL:PT1H
BEGIN:VTIMEZONE
TZID:America/New_York
BEGIN:DAYLIGHT
TZOFFSETFROM:-0500
TZOFFSETTO:-0400
TZNAME:EDT
DTSTART:20230312T070000
END:DAYLIGHT
BEGIN:STANDARD
TZOFFSETFROM:-0400
TZOFFSETTO:-0500
TZNAME:EST
DTSTART:20231105T060000
END:STANDARD
END:VTIMEZONE
BEGIN:VEVENT
DTSTART;TZID=America/New_York:20230923T090000
DTEND;TZID=America/New_York:20230923T130000
DTSTAMP:20260420T164359
CREATED:20231004T011546Z
LAST-MODIFIED:20231004T011546Z
UID:4745-1695459600-1695474000@mikepetrovichmusic.com
SUMMARY:Winter Garden Farmers Market
DESCRIPTION:
URL:https://mikepetrovichmusic.com/event/winter-garden-farmers-market-3/
LOCATION:Winter Garden Farmers Market\, 104 S. Lakeview Ave.\, Winter Garden\, FL\, 34787\, United States
ATTACH;FMTTYPE=image/gif:https://mikepetrovichmusic.com/wp-content/uploads/2015/08/WGfarmersMarket-e1438891182453.gif
END:VEVENT
BEGIN:VEVENT
DTSTART;TZID=America/New_York:20230923T180000
DTEND;TZID=America/New_York:20230923T210000
DTSTAMP:20260420T164359
CREATED:20231004T010850Z
LAST-MODIFIED:20231004T010850Z
UID:4715-1695492000-1695502800@mikepetrovichmusic.com
SUMMARY:Monte Vesuvio Italian Grill
DESCRIPTION:
URL:https://mikepetrovichmusic.com/event/monte-vesuvio-italian-grill-82/
LOCATION:Monte Vesuvio Italian Grill\, 5414 Deep Lake Rd\, Ste.1152\, Oviedo\, FL\, 32765\, United States
ATTACH;FMTTYPE=image/png:https://mikepetrovichmusic.com/wp-content/uploads/2021/11/Monte-Vesuvio-Italian-Grill-e1637033202251.png
END:VEVENT
BEGIN:VEVENT
DTSTART;TZID=America/New_York:20230924T120000
DTEND;TZID=America/New_York:20230924T150000
DTSTAMP:20260420T164359
CREATED:20231004T004631Z
LAST-MODIFIED:20231004T004631Z
UID:4619-1695556800-1695567600@mikepetrovichmusic.com
SUMMARY:The Vineyard Wine Company
DESCRIPTION:
URL:https://mikepetrovichmusic.com/event/the-vineyard-wine-company-79/
LOCATION:The Vineyard Wine Company\, 1140 Townpark Ave\, Suite 1260\, Lake Mary\, FL\, 32746\, United States
ATTACH;FMTTYPE=image/jpeg:https://mikepetrovichmusic.com/wp-content/uploads/2016/03/The-Vineyard-Wine-Company.jpg
END:VEVENT
BEGIN:VEVENT
DTSTART;TZID=America/New_York:20230928T180000
DTEND;TZID=America/New_York:20230928T210000
DTSTAMP:20260420T164359
CREATED:20231004T010342Z
LAST-MODIFIED:20231004T010342Z
UID:4687-1695924000-1695934800@mikepetrovichmusic.com
SUMMARY:Sanford Brewing Company Maitland
DESCRIPTION:
URL:https://mikepetrovichmusic.com/event/sanford-brewing-company-maitland-74/
LOCATION:Sanford Brewing Company Maitland\, 160 Independence Lane\, Suite B\, Maitland\, FL\, 32751\, United States
ATTACH;FMTTYPE=image/png:https://mikepetrovichmusic.com/wp-content/uploads/2021/11/Sanford-Brewing-Company.png
END:VEVENT
BEGIN:VEVENT
DTSTART;TZID=America/New_York:20230929T183000
DTEND;TZID=America/New_York:20230929T213000
DTSTAMP:20260420T164359
CREATED:20231004T005720Z
LAST-MODIFIED:20231004T005720Z
UID:4655-1696012200-1696023000@mikepetrovichmusic.com
SUMMARY:Caffe Positano
DESCRIPTION:
URL:https://mikepetrovichmusic.com/event/caffe-positano-81/
LOCATION:Caffe Positano\, 3030 E Semoran Blvd\, Apopka\, FL\, 32703\, United States
ATTACH;FMTTYPE=image/jpeg:https://mikepetrovichmusic.com/wp-content/uploads/2015/08/Cafe-Positano-e1441037803689.jpeg
END:VEVENT
BEGIN:VEVENT
DTSTART;TZID=America/New_York:20230930T180000
DTEND;TZID=America/New_York:20230930T210000
DTSTAMP:20260420T164359
CREATED:20231004T010901Z
LAST-MODIFIED:20231004T010901Z
UID:4717-1696096800-1696107600@mikepetrovichmusic.com
SUMMARY:Monte Vesuvio Italian Grill
DESCRIPTION:
URL:https://mikepetrovichmusic.com/event/monte-vesuvio-italian-grill-83/
LOCATION:Monte Vesuvio Italian Grill\, 5414 Deep Lake Rd\, Ste.1152\, Oviedo\, FL\, 32765\, United States
ATTACH;FMTTYPE=image/png:https://mikepetrovichmusic.com/wp-content/uploads/2021/11/Monte-Vesuvio-Italian-Grill-e1637033202251.png
END:VEVENT
BEGIN:VEVENT
DTSTART;TZID=America/New_York:20231001T120000
DTEND;TZID=America/New_York:20231001T150000
DTSTAMP:20260420T164359
CREATED:20231004T004822Z
LAST-MODIFIED:20231004T004822Z
UID:4622-1696161600-1696172400@mikepetrovichmusic.com
SUMMARY:The Vineyard Wine Company
DESCRIPTION:
URL:https://mikepetrovichmusic.com/event/the-vineyard-wine-company-80/
LOCATION:The Vineyard Wine Company\, 1140 Townpark Ave\, Suite 1260\, Lake Mary\, FL\, 32746\, United States
ATTACH;FMTTYPE=image/jpeg:https://mikepetrovichmusic.com/wp-content/uploads/2016/03/The-Vineyard-Wine-Company.jpg
END:VEVENT
BEGIN:VEVENT
DTSTART;TZID=America/New_York:20231005T180000
DTEND;TZID=America/New_York:20231005T210000
DTSTAMP:20260420T164359
CREATED:20231004T010359Z
LAST-MODIFIED:20231004T010359Z
UID:4689-1696528800-1696539600@mikepetrovichmusic.com
SUMMARY:Sanford Brewing Company Maitland
DESCRIPTION:
URL:https://mikepetrovichmusic.com/event/sanford-brewing-company-maitland-75/
LOCATION:Sanford Brewing Company Maitland\, 160 Independence Lane\, Suite B\, Maitland\, FL\, 32751\, United States
ATTACH;FMTTYPE=image/png:https://mikepetrovichmusic.com/wp-content/uploads/2021/11/Sanford-Brewing-Company.png
END:VEVENT
BEGIN:VEVENT
DTSTART;TZID=America/New_York:20231006T183000
DTEND;TZID=America/New_York:20231006T213000
DTSTAMP:20260420T164359
CREATED:20231004T005737Z
LAST-MODIFIED:20231004T005737Z
UID:4657-1696617000-1696627800@mikepetrovichmusic.com
SUMMARY:Caffe Positano
DESCRIPTION:
URL:https://mikepetrovichmusic.com/event/caffe-positano-82/
LOCATION:Caffe Positano\, 3030 E Semoran Blvd\, Apopka\, FL\, 32703\, United States
ATTACH;FMTTYPE=image/jpeg:https://mikepetrovichmusic.com/wp-content/uploads/2015/08/Cafe-Positano-e1441037803689.jpeg
END:VEVENT
BEGIN:VEVENT
DTSTART;TZID=America/New_York:20231007T140000
DTEND;TZID=America/New_York:20231007T150000
DTSTAMP:20260420T164359
CREATED:20231004T012523Z
LAST-MODIFIED:20231004T145044Z
UID:4748-1696687200-1696690800@mikepetrovichmusic.com
SUMMARY:50th Annual Winter Park Autumn Art Festival
DESCRIPTION:
URL:https://mikepetrovichmusic.com/event/50th-annual-winter-park-autumn-art-festival/
LOCATION:Winter Park Autumn Art Festival\, 251 S. Park Avenue\, Winter Park\, FL\, 32789\, United States
ATTACH;FMTTYPE=image/png:https://mikepetrovichmusic.com/wp-content/uploads/2023/10/Winter-Park-Autumn-Art-Festival.png
END:VEVENT
BEGIN:VEVENT
DTSTART;TZID=America/New_York:20231007T180000
DTEND;TZID=America/New_York:20231007T210000
DTSTAMP:20260420T164400
CREATED:20231004T010916Z
LAST-MODIFIED:20231004T010916Z
UID:4719-1696701600-1696712400@mikepetrovichmusic.com
SUMMARY:Monte Vesuvio Italian Grill
DESCRIPTION:
URL:https://mikepetrovichmusic.com/event/monte-vesuvio-italian-grill-84/
LOCATION:Monte Vesuvio Italian Grill\, 5414 Deep Lake Rd\, Ste.1152\, Oviedo\, FL\, 32765\, United States
ATTACH;FMTTYPE=image/png:https://mikepetrovichmusic.com/wp-content/uploads/2021/11/Monte-Vesuvio-Italian-Grill-e1637033202251.png
END:VEVENT
BEGIN:VEVENT
DTSTART;TZID=America/New_York:20231008T120000
DTEND;TZID=America/New_York:20231008T150000
DTSTAMP:20260420T164400
CREATED:20231004T004836Z
LAST-MODIFIED:20231004T004836Z
UID:4624-1696766400-1696777200@mikepetrovichmusic.com
SUMMARY:The Vineyard Wine Company
DESCRIPTION:
URL:https://mikepetrovichmusic.com/event/the-vineyard-wine-company-81/
LOCATION:The Vineyard Wine Company\, 1140 Townpark Ave\, Suite 1260\, Lake Mary\, FL\, 32746\, United States
ATTACH;FMTTYPE=image/jpeg:https://mikepetrovichmusic.com/wp-content/uploads/2016/03/The-Vineyard-Wine-Company.jpg
END:VEVENT
BEGIN:VEVENT
DTSTART;TZID=America/New_York:20231012T180000
DTEND;TZID=America/New_York:20231012T210000
DTSTAMP:20260420T164400
CREATED:20231004T010414Z
LAST-MODIFIED:20231004T010414Z
UID:4691-1697133600-1697144400@mikepetrovichmusic.com
SUMMARY:Sanford Brewing Company Maitland
DESCRIPTION:
URL:https://mikepetrovichmusic.com/event/sanford-brewing-company-maitland-76/
LOCATION:Sanford Brewing Company Maitland\, 160 Independence Lane\, Suite B\, Maitland\, FL\, 32751\, United States
ATTACH;FMTTYPE=image/png:https://mikepetrovichmusic.com/wp-content/uploads/2021/11/Sanford-Brewing-Company.png
END:VEVENT
BEGIN:VEVENT
DTSTART;TZID=America/New_York:20231013T183000
DTEND;TZID=America/New_York:20231013T213000
DTSTAMP:20260420T164400
CREATED:20231004T005751Z
LAST-MODIFIED:20231004T005751Z
UID:4659-1697221800-1697232600@mikepetrovichmusic.com
SUMMARY:Caffe Positano
DESCRIPTION:
URL:https://mikepetrovichmusic.com/event/caffe-positano-83/
LOCATION:Caffe Positano\, 3030 E Semoran Blvd\, Apopka\, FL\, 32703\, United States
ATTACH;FMTTYPE=image/jpeg:https://mikepetrovichmusic.com/wp-content/uploads/2015/08/Cafe-Positano-e1441037803689.jpeg
END:VEVENT
BEGIN:VEVENT
DTSTART;TZID=America/New_York:20231014T180000
DTEND;TZID=America/New_York:20231014T210000
DTSTAMP:20260420T164400
CREATED:20231004T010929Z
LAST-MODIFIED:20231004T010929Z
UID:4721-1697306400-1697317200@mikepetrovichmusic.com
SUMMARY:Monte Vesuvio Italian Grill
DESCRIPTION:
URL:https://mikepetrovichmusic.com/event/monte-vesuvio-italian-grill-85/
LOCATION:Monte Vesuvio Italian Grill\, 5414 Deep Lake Rd\, Ste.1152\, Oviedo\, FL\, 32765\, United States
ATTACH;FMTTYPE=image/png:https://mikepetrovichmusic.com/wp-content/uploads/2021/11/Monte-Vesuvio-Italian-Grill-e1637033202251.png
END:VEVENT
BEGIN:VEVENT
DTSTART;TZID=America/New_York:20231015T120000
DTEND;TZID=America/New_York:20231015T150000
DTSTAMP:20260420T164400
CREATED:20231004T004853Z
LAST-MODIFIED:20231004T004853Z
UID:4626-1697371200-1697382000@mikepetrovichmusic.com
SUMMARY:The Vineyard Wine Company
DESCRIPTION:
URL:https://mikepetrovichmusic.com/event/the-vineyard-wine-company-82/
LOCATION:The Vineyard Wine Company\, 1140 Townpark Ave\, Suite 1260\, Lake Mary\, FL\, 32746\, United States
ATTACH;FMTTYPE=image/jpeg:https://mikepetrovichmusic.com/wp-content/uploads/2016/03/The-Vineyard-Wine-Company.jpg
END:VEVENT
BEGIN:VEVENT
DTSTART;TZID=America/New_York:20231019T180000
DTEND;TZID=America/New_York:20231019T210000
DTSTAMP:20260420T164400
CREATED:20231004T010433Z
LAST-MODIFIED:20231004T010433Z
UID:4693-1697738400-1697749200@mikepetrovichmusic.com
SUMMARY:Sanford Brewing Company Maitland
DESCRIPTION:
URL:https://mikepetrovichmusic.com/event/sanford-brewing-company-maitland-77/
LOCATION:Sanford Brewing Company Maitland\, 160 Independence Lane\, Suite B\, Maitland\, FL\, 32751\, United States
ATTACH;FMTTYPE=image/png:https://mikepetrovichmusic.com/wp-content/uploads/2021/11/Sanford-Brewing-Company.png
END:VEVENT
BEGIN:VEVENT
DTSTART;TZID=America/New_York:20231020T183000
DTEND;TZID=America/New_York:20231020T213000
DTSTAMP:20260420T164400
CREATED:20231004T005804Z
LAST-MODIFIED:20231004T005804Z
UID:4661-1697826600-1697837400@mikepetrovichmusic.com
SUMMARY:Caffe Positano
DESCRIPTION:
URL:https://mikepetrovichmusic.com/event/caffe-positano-84/
LOCATION:Caffe Positano\, 3030 E Semoran Blvd\, Apopka\, FL\, 32703\, United States
ATTACH;FMTTYPE=image/jpeg:https://mikepetrovichmusic.com/wp-content/uploads/2015/08/Cafe-Positano-e1441037803689.jpeg
END:VEVENT
BEGIN:VEVENT
DTSTART;TZID=America/New_York:20231021T180000
DTEND;TZID=America/New_York:20231021T210000
DTSTAMP:20260420T164400
CREATED:20231004T010944Z
LAST-MODIFIED:20231004T010944Z
UID:4723-1697911200-1697922000@mikepetrovichmusic.com
SUMMARY:Monte Vesuvio Italian Grill
DESCRIPTION:
URL:https://mikepetrovichmusic.com/event/monte-vesuvio-italian-grill-86/
LOCATION:Monte Vesuvio Italian Grill\, 5414 Deep Lake Rd\, Ste.1152\, Oviedo\, FL\, 32765\, United States
ATTACH;FMTTYPE=image/png:https://mikepetrovichmusic.com/wp-content/uploads/2021/11/Monte-Vesuvio-Italian-Grill-e1637033202251.png
END:VEVENT
BEGIN:VEVENT
DTSTART;TZID=America/New_York:20231022T120000
DTEND;TZID=America/New_York:20231022T150000
DTSTAMP:20260420T164400
CREATED:20231004T004907Z
LAST-MODIFIED:20231004T004907Z
UID:4628-1697976000-1697986800@mikepetrovichmusic.com
SUMMARY:The Vineyard Wine Company
DESCRIPTION:
URL:https://mikepetrovichmusic.com/event/the-vineyard-wine-company-83/
LOCATION:The Vineyard Wine Company\, 1140 Townpark Ave\, Suite 1260\, Lake Mary\, FL\, 32746\, United States
ATTACH;FMTTYPE=image/jpeg:https://mikepetrovichmusic.com/wp-content/uploads/2016/03/The-Vineyard-Wine-Company.jpg
END:VEVENT
BEGIN:VEVENT
DTSTART;TZID=America/New_York:20231026T180000
DTEND;TZID=America/New_York:20231026T210000
DTSTAMP:20260420T164400
CREATED:20231004T010445Z
LAST-MODIFIED:20231004T010445Z
UID:4695-1698343200-1698354000@mikepetrovichmusic.com
SUMMARY:Sanford Brewing Company Maitland
DESCRIPTION:
URL:https://mikepetrovichmusic.com/event/sanford-brewing-company-maitland-78/
LOCATION:Sanford Brewing Company Maitland\, 160 Independence Lane\, Suite B\, Maitland\, FL\, 32751\, United States
ATTACH;FMTTYPE=image/png:https://mikepetrovichmusic.com/wp-content/uploads/2021/11/Sanford-Brewing-Company.png
END:VEVENT
BEGIN:VEVENT
DTSTART;TZID=America/New_York:20231027T183000
DTEND;TZID=America/New_York:20231027T213000
DTSTAMP:20260420T164400
CREATED:20231004T005818Z
LAST-MODIFIED:20231004T005818Z
UID:4663-1698431400-1698442200@mikepetrovichmusic.com
SUMMARY:Caffe Positano
DESCRIPTION:
URL:https://mikepetrovichmusic.com/event/caffe-positano-85/
LOCATION:Caffe Positano\, 3030 E Semoran Blvd\, Apopka\, FL\, 32703\, United States
ATTACH;FMTTYPE=image/jpeg:https://mikepetrovichmusic.com/wp-content/uploads/2015/08/Cafe-Positano-e1441037803689.jpeg
END:VEVENT
BEGIN:VEVENT
DTSTART;TZID=America/New_York:20231028T180000
DTEND;TZID=America/New_York:20231028T210000
DTSTAMP:20260420T164400
CREATED:20231004T010956Z
LAST-MODIFIED:20231004T010956Z
UID:4725-1698516000-1698526800@mikepetrovichmusic.com
SUMMARY:Monte Vesuvio Italian Grill
DESCRIPTION:
URL:https://mikepetrovichmusic.com/event/monte-vesuvio-italian-grill-87/
LOCATION:Monte Vesuvio Italian Grill\, 5414 Deep Lake Rd\, Ste.1152\, Oviedo\, FL\, 32765\, United States
ATTACH;FMTTYPE=image/png:https://mikepetrovichmusic.com/wp-content/uploads/2021/11/Monte-Vesuvio-Italian-Grill-e1637033202251.png
END:VEVENT
BEGIN:VEVENT
DTSTART;TZID=America/New_York:20231029T120000
DTEND;TZID=America/New_York:20231029T150000
DTSTAMP:20260420T164400
CREATED:20231004T004925Z
LAST-MODIFIED:20231004T004925Z
UID:4630-1698580800-1698591600@mikepetrovichmusic.com
SUMMARY:The Vineyard Wine Company
DESCRIPTION:
URL:https://mikepetrovichmusic.com/event/the-vineyard-wine-company-84/
LOCATION:The Vineyard Wine Company\, 1140 Townpark Ave\, Suite 1260\, Lake Mary\, FL\, 32746\, United States
ATTACH;FMTTYPE=image/jpeg:https://mikepetrovichmusic.com/wp-content/uploads/2016/03/The-Vineyard-Wine-Company.jpg
END:VEVENT
BEGIN:VEVENT
DTSTART;TZID=America/New_York:20231102T180000
DTEND;TZID=America/New_York:20231102T210000
DTSTAMP:20260420T164400
CREATED:20231004T010508Z
LAST-MODIFIED:20231004T010508Z
UID:4697-1698948000-1698958800@mikepetrovichmusic.com
SUMMARY:Sanford Brewing Company Maitland
DESCRIPTION:
URL:https://mikepetrovichmusic.com/event/sanford-brewing-company-maitland-79/
LOCATION:Sanford Brewing Company Maitland\, 160 Independence Lane\, Suite B\, Maitland\, FL\, 32751\, United States
ATTACH;FMTTYPE=image/png:https://mikepetrovichmusic.com/wp-content/uploads/2021/11/Sanford-Brewing-Company.png
END:VEVENT
BEGIN:VEVENT
DTSTART;TZID=America/New_York:20231103T183000
DTEND;TZID=America/New_York:20231103T213000
DTSTAMP:20260420T164400
CREATED:20231004T005834Z
LAST-MODIFIED:20231004T005834Z
UID:4665-1699036200-1699047000@mikepetrovichmusic.com
SUMMARY:Caffe Positano
DESCRIPTION:
URL:https://mikepetrovichmusic.com/event/caffe-positano-86/
LOCATION:Caffe Positano\, 3030 E Semoran Blvd\, Apopka\, FL\, 32703\, United States
ATTACH;FMTTYPE=image/jpeg:https://mikepetrovichmusic.com/wp-content/uploads/2015/08/Cafe-Positano-e1441037803689.jpeg
END:VEVENT
BEGIN:VEVENT
DTSTART;TZID=America/New_York:20231104T180000
DTEND;TZID=America/New_York:20231104T210000
DTSTAMP:20260420T164400
CREATED:20231004T011009Z
LAST-MODIFIED:20231004T011009Z
UID:4727-1699120800-1699131600@mikepetrovichmusic.com
SUMMARY:Monte Vesuvio Italian Grill
DESCRIPTION:
URL:https://mikepetrovichmusic.com/event/monte-vesuvio-italian-grill-88/
LOCATION:Monte Vesuvio Italian Grill\, 5414 Deep Lake Rd\, Ste.1152\, Oviedo\, FL\, 32765\, United States
ATTACH;FMTTYPE=image/png:https://mikepetrovichmusic.com/wp-content/uploads/2021/11/Monte-Vesuvio-Italian-Grill-e1637033202251.png
END:VEVENT
BEGIN:VEVENT
DTSTART;TZID=America/New_York:20231105T120000
DTEND;TZID=America/New_York:20231105T150000
DTSTAMP:20260420T164400
CREATED:20231004T004941Z
LAST-MODIFIED:20231004T004941Z
UID:4632-1699185600-1699196400@mikepetrovichmusic.com
SUMMARY:The Vineyard Wine Company
DESCRIPTION:
URL:https://mikepetrovichmusic.com/event/the-vineyard-wine-company-85/
LOCATION:The Vineyard Wine Company\, 1140 Townpark Ave\, Suite 1260\, Lake Mary\, FL\, 32746\, United States
ATTACH;FMTTYPE=image/jpeg:https://mikepetrovichmusic.com/wp-content/uploads/2016/03/The-Vineyard-Wine-Company.jpg
END:VEVENT
BEGIN:VEVENT
DTSTART;TZID=America/New_York:20231109T180000
DTEND;TZID=America/New_York:20231109T210000
DTSTAMP:20260420T164400
CREATED:20231004T010522Z
LAST-MODIFIED:20231004T010522Z
UID:4699-1699552800-1699563600@mikepetrovichmusic.com
SUMMARY:Sanford Brewing Company Maitland
DESCRIPTION:
URL:https://mikepetrovichmusic.com/event/sanford-brewing-company-maitland-80/
LOCATION:Sanford Brewing Company Maitland\, 160 Independence Lane\, Suite B\, Maitland\, FL\, 32751\, United States
ATTACH;FMTTYPE=image/png:https://mikepetrovichmusic.com/wp-content/uploads/2021/11/Sanford-Brewing-Company.png
END:VEVENT
BEGIN:VEVENT
DTSTART;TZID=America/New_York:20231110T183000
DTEND;TZID=America/New_York:20231110T213000
DTSTAMP:20260420T164400
CREATED:20231004T005851Z
LAST-MODIFIED:20231004T005851Z
UID:4667-1699641000-1699651800@mikepetrovichmusic.com
SUMMARY:Caffe Positano
DESCRIPTION:
URL:https://mikepetrovichmusic.com/event/caffe-positano-87/
LOCATION:Caffe Positano\, 3030 E Semoran Blvd\, Apopka\, FL\, 32703\, United States
ATTACH;FMTTYPE=image/jpeg:https://mikepetrovichmusic.com/wp-content/uploads/2015/08/Cafe-Positano-e1441037803689.jpeg
END:VEVENT
END:VCALENDAR