BEGIN:VCALENDAR
VERSION:2.0
PRODID:-//Michael Petrovich - ECPv5.14.1//NONSGML v1.0//EN
CALSCALE:GREGORIAN
METHOD:PUBLISH
X-WR-CALNAME:Michael Petrovich
X-ORIGINAL-URL:https://mikepetrovichmusic.com
X-WR-CALDESC:Events for Michael Petrovich
REFRESH-INTERVAL;VALUE=DURATION:PT1H
X-Robots-Tag:noindex
X-PUBLISHED-TTL:PT1H
BEGIN:VTIMEZONE
TZID:America/New_York
BEGIN:DAYLIGHT
TZOFFSETFROM:-0500
TZOFFSETTO:-0400
TZNAME:EDT
DTSTART:20260308T070000
END:DAYLIGHT
BEGIN:STANDARD
TZOFFSETFROM:-0400
TZOFFSETTO:-0500
TZNAME:EST
DTSTART:20261101T060000
END:STANDARD
END:VTIMEZONE
BEGIN:VEVENT
DTSTART;TZID=America/New_York:20260418T160000
DTEND;TZID=America/New_York:20260418T190000
DTSTAMP:20260422T060608
CREATED:20260422T021053Z
LAST-MODIFIED:20260422T021053Z
UID:5603-1776528000-1776538800@mikepetrovichmusic.com
SUMMARY:Orlando International Airport - Terminal C Level 2 Departures
DESCRIPTION:
URL:https://mikepetrovichmusic.com/event/orlando-international-airport-terminal-c-level-2-departures-7/
LOCATION:Orlando International Airport\, 1 Jeff Fuqua Blvd\, Orlando\, FL\, 32827\, United States
ATTACH;FMTTYPE=image/png:https://mikepetrovichmusic.com/wp-content/uploads/2024/11/Orlando-International-Airport.png
END:VEVENT
BEGIN:VEVENT
DTSTART;TZID=America/New_York:20260405T120000
DTEND;TZID=America/New_York:20260405T150000
DTSTAMP:20260422T060608
CREATED:20260422T031754Z
LAST-MODIFIED:20260422T031754Z
UID:5587-1775390400-1775401200@mikepetrovichmusic.com
SUMMARY:The Vineyard Wine Company
DESCRIPTION:
URL:https://mikepetrovichmusic.com/event/the-vineyard-wine-company-207/
LOCATION:The Vineyard Wine Company\, 1140 Townpark Ave\, Suite 1260\, Lake Mary\, FL\, 32746\, United States
ATTACH;FMTTYPE=image/jpeg:https://mikepetrovichmusic.com/wp-content/uploads/2016/03/The-Vineyard-Wine-Company.jpg
END:VEVENT
BEGIN:VEVENT
DTSTART;TZID=America/New_York:20260329T120000
DTEND;TZID=America/New_York:20260329T150000
DTSTAMP:20260422T060608
CREATED:20260109T012802Z
LAST-MODIFIED:20260109T012802Z
UID:5558-1774785600-1774796400@mikepetrovichmusic.com
SUMMARY:The Vineyard Wine Company
DESCRIPTION:
URL:https://mikepetrovichmusic.com/event/the-vineyard-wine-company-206/
LOCATION:The Vineyard Wine Company\, 1140 Townpark Ave\, Suite 1260\, Lake Mary\, FL\, 32746\, United States
ATTACH;FMTTYPE=image/jpeg:https://mikepetrovichmusic.com/wp-content/uploads/2016/03/The-Vineyard-Wine-Company.jpg
END:VEVENT
BEGIN:VEVENT
DTSTART;TZID=America/New_York:20260328T150000
DTEND;TZID=America/New_York:20260328T163000
DTSTAMP:20260422T060608
CREATED:20260422T020530Z
LAST-MODIFIED:20260422T020530Z
UID:5597-1774710000-1774715400@mikepetrovichmusic.com
SUMMARY:Bloom Ride Party Bus
DESCRIPTION:
URL:https://mikepetrovichmusic.com/event/bloom-ride-party-bus-4/
LOCATION:Bloom Ride Party Bus\, 5156 International Dr\, Orlando\, FL\, 32819\, United States
ATTACH;FMTTYPE=image/webp:https://mikepetrovichmusic.com/wp-content/uploads/2026/01/Bloom-Ride.webp
END:VEVENT
BEGIN:VEVENT
DTSTART;TZID=America/New_York:20260327T183000
DTEND;TZID=America/New_York:20260327T213000
DTSTAMP:20260422T060608
CREATED:20260109T014634Z
LAST-MODIFIED:20260109T014634Z
UID:5574-1774636200-1774647000@mikepetrovichmusic.com
SUMMARY:Caffe Positano
DESCRIPTION:
URL:https://mikepetrovichmusic.com/event/caffe-positano-207/
LOCATION:Caffe Positano\, 3030 E Semoran Blvd\, Apopka\, FL\, 32703\, United States
ATTACH;FMTTYPE=image/jpeg:https://mikepetrovichmusic.com/wp-content/uploads/2015/08/Cafe-Positano-e1441037803689.jpeg
END:VEVENT
BEGIN:VEVENT
DTSTART;TZID=America/New_York:20260322T120000
DTEND;TZID=America/New_York:20260322T150000
DTSTAMP:20260422T060608
CREATED:20260109T012708Z
LAST-MODIFIED:20260109T012708Z
UID:5556-1774180800-1774191600@mikepetrovichmusic.com
SUMMARY:The Vineyard Wine Company
DESCRIPTION:
URL:https://mikepetrovichmusic.com/event/the-vineyard-wine-company-205/
LOCATION:The Vineyard Wine Company\, 1140 Townpark Ave\, Suite 1260\, Lake Mary\, FL\, 32746\, United States
ATTACH;FMTTYPE=image/jpeg:https://mikepetrovichmusic.com/wp-content/uploads/2016/03/The-Vineyard-Wine-Company.jpg
END:VEVENT
BEGIN:VEVENT
DTSTART;TZID=America/New_York:20260320T183000
DTEND;TZID=America/New_York:20260320T213000
DTSTAMP:20260422T060608
CREATED:20260109T013855Z
LAST-MODIFIED:20260109T013855Z
UID:5572-1774031400-1774042200@mikepetrovichmusic.com
SUMMARY:Caffe Positano
DESCRIPTION:
URL:https://mikepetrovichmusic.com/event/caffe-positano-206/
LOCATION:Caffe Positano\, 3030 E Semoran Blvd\, Apopka\, FL\, 32703\, United States
ATTACH;FMTTYPE=image/jpeg:https://mikepetrovichmusic.com/wp-content/uploads/2015/08/Cafe-Positano-e1441037803689.jpeg
END:VEVENT
BEGIN:VEVENT
DTSTART;TZID=America/New_York:20260315T120000
DTEND;TZID=America/New_York:20260315T150000
DTSTAMP:20260422T060608
CREATED:20260109T012542Z
LAST-MODIFIED:20260109T012542Z
UID:5553-1773576000-1773586800@mikepetrovichmusic.com
SUMMARY:The Vineyard Wine Company
DESCRIPTION:
URL:https://mikepetrovichmusic.com/event/the-vineyard-wine-company-204/
LOCATION:The Vineyard Wine Company\, 1140 Townpark Ave\, Suite 1260\, Lake Mary\, FL\, 32746\, United States
ATTACH;FMTTYPE=image/jpeg:https://mikepetrovichmusic.com/wp-content/uploads/2016/03/The-Vineyard-Wine-Company.jpg
END:VEVENT
BEGIN:VEVENT
DTSTART;TZID=America/New_York:20260313T183000
DTEND;TZID=America/New_York:20260313T213000
DTSTAMP:20260422T060608
CREATED:20260109T013516Z
LAST-MODIFIED:20260109T013516Z
UID:5570-1773426600-1773437400@mikepetrovichmusic.com
SUMMARY:Caffe Positano
DESCRIPTION:
URL:https://mikepetrovichmusic.com/event/caffe-positano-205/
LOCATION:Caffe Positano\, 3030 E Semoran Blvd\, Apopka\, FL\, 32703\, United States
ATTACH;FMTTYPE=image/jpeg:https://mikepetrovichmusic.com/wp-content/uploads/2015/08/Cafe-Positano-e1441037803689.jpeg
END:VEVENT
BEGIN:VEVENT
DTSTART;TZID=America/New_York:20260308T120000
DTEND;TZID=America/New_York:20260308T150000
DTSTAMP:20260422T060608
CREATED:20260109T012439Z
LAST-MODIFIED:20260109T012439Z
UID:5551-1772971200-1772982000@mikepetrovichmusic.com
SUMMARY:The Vineyard Wine Company
DESCRIPTION:
URL:https://mikepetrovichmusic.com/event/the-vineyard-wine-company-203/
LOCATION:The Vineyard Wine Company\, 1140 Townpark Ave\, Suite 1260\, Lake Mary\, FL\, 32746\, United States
ATTACH;FMTTYPE=image/jpeg:https://mikepetrovichmusic.com/wp-content/uploads/2016/03/The-Vineyard-Wine-Company.jpg
END:VEVENT
BEGIN:VEVENT
DTSTART;TZID=America/New_York:20260308T100000
DTEND;TZID=America/New_York:20260308T113000
DTSTAMP:20260422T060608
CREATED:20260422T020830Z
LAST-MODIFIED:20260422T020830Z
UID:5599-1772964000-1772969400@mikepetrovichmusic.com
SUMMARY:Lake Mary Festival Of The Arts
DESCRIPTION:
URL:https://mikepetrovichmusic.com/event/lake-mary-festival-of-the-arts-2/
LOCATION:Colonial Townpark\, 950 Market Promenade Avenue\, Lake Mary\, Florida\, 32746\, United States
ATTACH;FMTTYPE=image/jpeg:https://mikepetrovichmusic.com/wp-content/uploads/2025/03/Lake-Mary-Festival-Of-The-Arts.jpg
END:VEVENT
BEGIN:VEVENT
DTSTART;TZID=America/New_York:20260306T183000
DTEND;TZID=America/New_York:20260306T213000
DTSTAMP:20260422T060608
CREATED:20260109T013258Z
LAST-MODIFIED:20260109T013258Z
UID:5568-1772821800-1772832600@mikepetrovichmusic.com
SUMMARY:Caffe Positano
DESCRIPTION:
URL:https://mikepetrovichmusic.com/event/caffe-positano-204/
LOCATION:Caffe Positano\, 3030 E Semoran Blvd\, Apopka\, FL\, 32703\, United States
ATTACH;FMTTYPE=image/jpeg:https://mikepetrovichmusic.com/wp-content/uploads/2015/08/Cafe-Positano-e1441037803689.jpeg
END:VEVENT
BEGIN:VEVENT
DTSTART;TZID=America/New_York:20260305T160000
DTEND;TZID=America/New_York:20260305T190000
DTSTAMP:20260422T060608
CREATED:20260422T020955Z
LAST-MODIFIED:20260422T020955Z
UID:5601-1772726400-1772737200@mikepetrovichmusic.com
SUMMARY:Orlando International Airport - Terminal C Level 2 Departures
DESCRIPTION:
URL:https://mikepetrovichmusic.com/event/orlando-international-airport-terminal-c-level-2-departures-6/
LOCATION:Orlando International Airport\, 1 Jeff Fuqua Blvd\, Orlando\, FL\, 32827\, United States
ATTACH;FMTTYPE=image/png:https://mikepetrovichmusic.com/wp-content/uploads/2024/11/Orlando-International-Airport.png
END:VEVENT
BEGIN:VEVENT
DTSTART;TZID=America/New_York:20260301T120000
DTEND;TZID=America/New_York:20260301T150000
DTSTAMP:20260422T060608
CREATED:20260109T012358Z
LAST-MODIFIED:20260109T012358Z
UID:5549-1772366400-1772377200@mikepetrovichmusic.com
SUMMARY:The Vineyard Wine Company
DESCRIPTION:
URL:https://mikepetrovichmusic.com/event/the-vineyard-wine-company-202/
LOCATION:The Vineyard Wine Company\, 1140 Townpark Ave\, Suite 1260\, Lake Mary\, FL\, 32746\, United States
ATTACH;FMTTYPE=image/jpeg:https://mikepetrovichmusic.com/wp-content/uploads/2016/03/The-Vineyard-Wine-Company.jpg
END:VEVENT
BEGIN:VEVENT
DTSTART;TZID=America/New_York:20260228T160000
DTEND;TZID=America/New_York:20260228T190000
DTSTAMP:20260422T060608
CREATED:20260422T020032Z
LAST-MODIFIED:20260422T020032Z
UID:5593-1772294400-1772305200@mikepetrovichmusic.com
SUMMARY:Orlando International Airport - Terminal C Level 2 Departures
DESCRIPTION:
URL:https://mikepetrovichmusic.com/event/orlando-international-airport-terminal-c-level-2-departures-5/
LOCATION:Orlando International Airport\, 1 Jeff Fuqua Blvd\, Orlando\, FL\, 32827\, United States
ATTACH;FMTTYPE=image/png:https://mikepetrovichmusic.com/wp-content/uploads/2024/11/Orlando-International-Airport.png
END:VEVENT
BEGIN:VEVENT
DTSTART;TZID=America/New_York:20260227T183000
DTEND;TZID=America/New_York:20260227T213000
DTSTAMP:20260422T060608
CREATED:20260109T013206Z
LAST-MODIFIED:20260109T013206Z
UID:5566-1772217000-1772227800@mikepetrovichmusic.com
SUMMARY:Caffe Positano
DESCRIPTION:
URL:https://mikepetrovichmusic.com/event/caffe-positano-203/
LOCATION:Caffe Positano\, 3030 E Semoran Blvd\, Apopka\, FL\, 32703\, United States
ATTACH;FMTTYPE=image/jpeg:https://mikepetrovichmusic.com/wp-content/uploads/2015/08/Cafe-Positano-e1441037803689.jpeg
END:VEVENT
BEGIN:VEVENT
DTSTART;TZID=America/New_York:20260222T120000
DTEND;TZID=America/New_York:20260222T150000
DTSTAMP:20260422T060608
CREATED:20260109T012315Z
LAST-MODIFIED:20260109T012315Z
UID:5547-1771761600-1771772400@mikepetrovichmusic.com
SUMMARY:The Vineyard Wine Company
DESCRIPTION:
URL:https://mikepetrovichmusic.com/event/the-vineyard-wine-company-201/
LOCATION:The Vineyard Wine Company\, 1140 Townpark Ave\, Suite 1260\, Lake Mary\, FL\, 32746\, United States
ATTACH;FMTTYPE=image/jpeg:https://mikepetrovichmusic.com/wp-content/uploads/2016/03/The-Vineyard-Wine-Company.jpg
END:VEVENT
BEGIN:VEVENT
DTSTART;TZID=America/New_York:20260220T183000
DTEND;TZID=America/New_York:20260220T213000
DTSTAMP:20260422T060608
CREATED:20260109T013059Z
LAST-MODIFIED:20260109T013059Z
UID:5564-1771612200-1771623000@mikepetrovichmusic.com
SUMMARY:Caffe Positano
DESCRIPTION:
URL:https://mikepetrovichmusic.com/event/caffe-positano-202/
LOCATION:Caffe Positano\, 3030 E Semoran Blvd\, Apopka\, FL\, 32703\, United States
ATTACH;FMTTYPE=image/jpeg:https://mikepetrovichmusic.com/wp-content/uploads/2015/08/Cafe-Positano-e1441037803689.jpeg
END:VEVENT
BEGIN:VEVENT
DTSTART;TZID=America/New_York:20260215T120000
DTEND;TZID=America/New_York:20260215T150000
DTSTAMP:20260422T060608
CREATED:20260109T012159Z
LAST-MODIFIED:20260109T012159Z
UID:5545-1771156800-1771167600@mikepetrovichmusic.com
SUMMARY:The Vineyard Wine Company
DESCRIPTION:
URL:https://mikepetrovichmusic.com/event/the-vineyard-wine-company-200/
LOCATION:The Vineyard Wine Company\, 1140 Townpark Ave\, Suite 1260\, Lake Mary\, FL\, 32746\, United States
ATTACH;FMTTYPE=image/jpeg:https://mikepetrovichmusic.com/wp-content/uploads/2016/03/The-Vineyard-Wine-Company.jpg
END:VEVENT
BEGIN:VEVENT
DTSTART;TZID=America/New_York:20260214T190000
DTEND;TZID=America/New_York:20260214T203000
DTSTAMP:20260422T060608
CREATED:20260422T020318Z
LAST-MODIFIED:20260422T020318Z
UID:5595-1771095600-1771101000@mikepetrovichmusic.com
SUMMARY:Bloom Ride Party Bus
DESCRIPTION:
URL:https://mikepetrovichmusic.com/event/bloom-ride-party-bus-3/
LOCATION:Bloom Ride Party Bus\, 5156 International Dr\, Orlando\, FL\, 32819\, United States
ATTACH;FMTTYPE=image/webp:https://mikepetrovichmusic.com/wp-content/uploads/2026/01/Bloom-Ride.webp
END:VEVENT
BEGIN:VEVENT
DTSTART;TZID=America/New_York:20260213T183000
DTEND;TZID=America/New_York:20260213T213000
DTSTAMP:20260422T060608
CREATED:20260109T013004Z
LAST-MODIFIED:20260109T013004Z
UID:5562-1771007400-1771018200@mikepetrovichmusic.com
SUMMARY:Caffe Positano
DESCRIPTION:
URL:https://mikepetrovichmusic.com/event/caffe-positano-201/
LOCATION:Caffe Positano\, 3030 E Semoran Blvd\, Apopka\, FL\, 32703\, United States
ATTACH;FMTTYPE=image/jpeg:https://mikepetrovichmusic.com/wp-content/uploads/2015/08/Cafe-Positano-e1441037803689.jpeg
END:VEVENT
BEGIN:VEVENT
DTSTART;TZID=America/New_York:20260208T120000
DTEND;TZID=America/New_York:20260208T150000
DTSTAMP:20260422T060608
CREATED:20260109T012030Z
LAST-MODIFIED:20260109T012030Z
UID:5543-1770552000-1770562800@mikepetrovichmusic.com
SUMMARY:The Vineyard Wine Company
DESCRIPTION:
URL:https://mikepetrovichmusic.com/event/the-vineyard-wine-company-199/
LOCATION:The Vineyard Wine Company\, 1140 Townpark Ave\, Suite 1260\, Lake Mary\, FL\, 32746\, United States
ATTACH;FMTTYPE=image/jpeg:https://mikepetrovichmusic.com/wp-content/uploads/2016/03/The-Vineyard-Wine-Company.jpg
END:VEVENT
BEGIN:VEVENT
DTSTART;TZID=America/New_York:20260206T183000
DTEND;TZID=America/New_York:20260206T213000
DTSTAMP:20260422T060608
CREATED:20260109T012859Z
LAST-MODIFIED:20260109T012859Z
UID:5560-1770402600-1770413400@mikepetrovichmusic.com
SUMMARY:Caffe Positano
DESCRIPTION:
URL:https://mikepetrovichmusic.com/event/caffe-positano-200/
LOCATION:Caffe Positano\, 3030 E Semoran Blvd\, Apopka\, FL\, 32703\, United States
ATTACH;FMTTYPE=image/jpeg:https://mikepetrovichmusic.com/wp-content/uploads/2015/08/Cafe-Positano-e1441037803689.jpeg
END:VEVENT
BEGIN:VEVENT
DTSTART;TZID=America/New_York:20260205T110000
DTEND;TZID=America/New_York:20260205T140000
DTSTAMP:20260422T060608
CREATED:20260422T015845Z
LAST-MODIFIED:20260422T015845Z
UID:5591-1770289200-1770300000@mikepetrovichmusic.com
SUMMARY:Orlando International Airport - Universal Orlando Store (A-Side)
DESCRIPTION:
URL:https://mikepetrovichmusic.com/event/orlando-international-airport-universal-orlando-store-a-side-12/
LOCATION:Orlando International Airport\, 1 Jeff Fuqua Blvd\, Orlando\, FL\, 32827\, United States
ATTACH;FMTTYPE=image/png:https://mikepetrovichmusic.com/wp-content/uploads/2024/11/Orlando-International-Airport.png
END:VEVENT
BEGIN:VEVENT
DTSTART;TZID=America/New_York:20260203T190000
DTEND;TZID=America/New_York:20260203T220000
DTSTAMP:20260422T060608
CREATED:20260422T015607Z
LAST-MODIFIED:20260422T015607Z
UID:5390-1770145200-1770156000@mikepetrovichmusic.com
SUMMARY:The Wine Imperium
DESCRIPTION:
URL:https://mikepetrovichmusic.com/event/the-wine-imperium-3/
LOCATION:The Wine Imperium\, 606 Market Street\, Suite 140\, Celebration\, FL\, 34747\, United States
ATTACH;FMTTYPE=image/png:https://mikepetrovichmusic.com/wp-content/uploads/2025/05/Wine-Imperium.png
END:VEVENT
BEGIN:VEVENT
DTSTART;TZID=America/New_York:20260201T120000
DTEND;TZID=America/New_York:20260201T150000
DTSTAMP:20260422T060608
CREATED:20260109T011839Z
LAST-MODIFIED:20260109T011839Z
UID:5541-1769947200-1769958000@mikepetrovichmusic.com
SUMMARY:The Vineyard Wine Company
DESCRIPTION:
URL:https://mikepetrovichmusic.com/event/the-vineyard-wine-company-198/
LOCATION:The Vineyard Wine Company\, 1140 Townpark Ave\, Suite 1260\, Lake Mary\, FL\, 32746\, United States
ATTACH;FMTTYPE=image/jpeg:https://mikepetrovichmusic.com/wp-content/uploads/2016/03/The-Vineyard-Wine-Company.jpg
END:VEVENT
BEGIN:VEVENT
DTSTART;TZID=America/New_York:20260130T183000
DTEND;TZID=America/New_York:20260130T213000
DTSTAMP:20260422T060608
CREATED:20251107T021028Z
LAST-MODIFIED:20251107T021028Z
UID:5521-1769797800-1769808600@mikepetrovichmusic.com
SUMMARY:Caffe Positano
DESCRIPTION:
URL:https://mikepetrovichmusic.com/event/caffe-positano-199/
LOCATION:Caffe Positano\, 3030 E Semoran Blvd\, Apopka\, FL\, 32703\, United States
ATTACH;FMTTYPE=image/jpeg:https://mikepetrovichmusic.com/wp-content/uploads/2015/08/Cafe-Positano-e1441037803689.jpeg
END:VEVENT
BEGIN:VEVENT
DTSTART;TZID=America/New_York:20260126T160000
DTEND;TZID=America/New_York:20260126T190000
DTSTAMP:20260422T060608
CREATED:20260109T011531Z
LAST-MODIFIED:20260109T011531Z
UID:5539-1769443200-1769454000@mikepetrovichmusic.com
SUMMARY:Orlando International Airport - Terminal C Level 2 Departures
DESCRIPTION:
URL:https://mikepetrovichmusic.com/event/orlando-international-airport-terminal-c-level-2-departures-4/
LOCATION:Orlando International Airport\, 1 Jeff Fuqua Blvd\, Orlando\, FL\, 32827\, United States
ATTACH;FMTTYPE=image/png:https://mikepetrovichmusic.com/wp-content/uploads/2024/11/Orlando-International-Airport.png
END:VEVENT
BEGIN:VEVENT
DTSTART;TZID=America/New_York:20260125T120000
DTEND;TZID=America/New_York:20260125T150000
DTSTAMP:20260422T060608
CREATED:20251107T020103Z
LAST-MODIFIED:20251107T020103Z
UID:5511-1769342400-1769353200@mikepetrovichmusic.com
SUMMARY:The Vineyard Wine Company
DESCRIPTION:
URL:https://mikepetrovichmusic.com/event/the-vineyard-wine-company-197/
LOCATION:The Vineyard Wine Company\, 1140 Townpark Ave\, Suite 1260\, Lake Mary\, FL\, 32746\, United States
ATTACH;FMTTYPE=image/jpeg:https://mikepetrovichmusic.com/wp-content/uploads/2016/03/The-Vineyard-Wine-Company.jpg
END:VEVENT
BEGIN:VEVENT
DTSTART;TZID=America/New_York:20260124T173000
DTEND;TZID=America/New_York:20260124T213000
DTSTAMP:20260422T060608
CREATED:20260109T011040Z
LAST-MODIFIED:20260109T011040Z
UID:5531-1769275800-1769290200@mikepetrovichmusic.com
SUMMARY:Dellagio Town Center Courtyard
DESCRIPTION:
URL:https://mikepetrovichmusic.com/event/dellagio-town-center-courtyard-15/
LOCATION:Dellagio Town Center\, 7924 - 8075 Via Dellagio Way\, Orlando\, FL\, 32819\, United States
ATTACH;FMTTYPE=image/jpeg:https://mikepetrovichmusic.com/wp-content/uploads/2025/09/Dellagio-Town-Center.jpg
END:VEVENT
END:VCALENDAR