BEGIN:VCALENDAR
VERSION:2.0
PRODID:-//Michael Petrovich - ECPv5.14.1//NONSGML v1.0//EN
CALSCALE:GREGORIAN
METHOD:PUBLISH
X-WR-CALNAME:Michael Petrovich
X-ORIGINAL-URL:https://mikepetrovichmusic.com
X-WR-CALDESC:Events for Michael Petrovich
REFRESH-INTERVAL;VALUE=DURATION:PT1H
X-Robots-Tag:noindex
X-PUBLISHED-TTL:PT1H
BEGIN:VTIMEZONE
TZID:America/New_York
BEGIN:DAYLIGHT
TZOFFSETFROM:-0500
TZOFFSETTO:-0400
TZNAME:EDT
DTSTART:20230312T070000
END:DAYLIGHT
BEGIN:STANDARD
TZOFFSETFROM:-0400
TZOFFSETTO:-0500
TZNAME:EST
DTSTART:20231105T060000
END:STANDARD
END:VTIMEZONE
BEGIN:VEVENT
DTSTART;TZID=America/New_York:20230813T120000
DTEND;TZID=America/New_York:20230813T150000
DTSTAMP:20260420T163308
CREATED:20230804T030231Z
LAST-MODIFIED:20230804T030231Z
UID:4608-1691928000-1691938800@mikepetrovichmusic.com
SUMMARY:The Vineyard Wine Company
DESCRIPTION:
URL:https://mikepetrovichmusic.com/event/the-vineyard-wine-company-74/
LOCATION:The Vineyard Wine Company\, 1140 Townpark Ave\, Suite 1260\, Lake Mary\, FL\, 32746\, United States
ATTACH;FMTTYPE=image/jpeg:https://mikepetrovichmusic.com/wp-content/uploads/2016/03/The-Vineyard-Wine-Company.jpg
END:VEVENT
BEGIN:VEVENT
DTSTART;TZID=America/New_York:20230812T180000
DTEND;TZID=America/New_York:20230812T210000
DTSTAMP:20260420T163308
CREATED:20230804T025930Z
LAST-MODIFIED:20230804T025930Z
UID:4588-1691863200-1691874000@mikepetrovichmusic.com
SUMMARY:Monte Vesuvio Italian Grill
DESCRIPTION:
URL:https://mikepetrovichmusic.com/event/monte-vesuvio-italian-grill-77/
LOCATION:Monte Vesuvio Italian Grill\, 5414 Deep Lake Rd\, Ste.1152\, Oviedo\, FL\, 32765\, United States
ATTACH;FMTTYPE=image/png:https://mikepetrovichmusic.com/wp-content/uploads/2021/11/Monte-Vesuvio-Italian-Grill-e1637033202251.png
END:VEVENT
BEGIN:VEVENT
DTSTART;TZID=America/New_York:20230811T183000
DTEND;TZID=America/New_York:20230811T213000
DTSTAMP:20260420T163308
CREATED:20230804T025238Z
LAST-MODIFIED:20230804T025238Z
UID:4550-1691778600-1691789400@mikepetrovichmusic.com
SUMMARY:Caffe Positano
DESCRIPTION:
URL:https://mikepetrovichmusic.com/event/caffe-positano-75/
LOCATION:Caffe Positano\, 3030 E Semoran Blvd\, Apopka\, FL\, 32703\, United States
ATTACH;FMTTYPE=image/jpeg:https://mikepetrovichmusic.com/wp-content/uploads/2015/08/Cafe-Positano-e1441037803689.jpeg
END:VEVENT
BEGIN:VEVENT
DTSTART;TZID=America/New_York:20230810T180000
DTEND;TZID=America/New_York:20230810T210000
DTSTAMP:20260420T163308
CREATED:20230804T025624Z
LAST-MODIFIED:20230804T025624Z
UID:4568-1691690400-1691701200@mikepetrovichmusic.com
SUMMARY:Sanford Brewing Company Maitland
DESCRIPTION:
URL:https://mikepetrovichmusic.com/event/sanford-brewing-company-maitland-68/
LOCATION:Sanford Brewing Company Maitland\, 160 Independence Lane\, Suite B\, Maitland\, FL\, 32751\, United States
ATTACH;FMTTYPE=image/png:https://mikepetrovichmusic.com/wp-content/uploads/2021/11/Sanford-Brewing-Company.png
END:VEVENT
BEGIN:VEVENT
DTSTART;TZID=America/New_York:20230806T120000
DTEND;TZID=America/New_York:20230806T150000
DTSTAMP:20260420T163308
CREATED:20230804T030220Z
LAST-MODIFIED:20230804T030220Z
UID:4606-1691323200-1691334000@mikepetrovichmusic.com
SUMMARY:The Vineyard Wine Company
DESCRIPTION:
URL:https://mikepetrovichmusic.com/event/the-vineyard-wine-company-73/
LOCATION:The Vineyard Wine Company\, 1140 Townpark Ave\, Suite 1260\, Lake Mary\, FL\, 32746\, United States
ATTACH;FMTTYPE=image/jpeg:https://mikepetrovichmusic.com/wp-content/uploads/2016/03/The-Vineyard-Wine-Company.jpg
END:VEVENT
BEGIN:VEVENT
DTSTART;TZID=America/New_York:20230805T180000
DTEND;TZID=America/New_York:20230805T210000
DTSTAMP:20260420T163308
CREATED:20230804T025918Z
LAST-MODIFIED:20230804T025918Z
UID:4586-1691258400-1691269200@mikepetrovichmusic.com
SUMMARY:Monte Vesuvio Italian Grill
DESCRIPTION:
URL:https://mikepetrovichmusic.com/event/monte-vesuvio-italian-grill-76/
LOCATION:Monte Vesuvio Italian Grill\, 5414 Deep Lake Rd\, Ste.1152\, Oviedo\, FL\, 32765\, United States
ATTACH;FMTTYPE=image/png:https://mikepetrovichmusic.com/wp-content/uploads/2021/11/Monte-Vesuvio-Italian-Grill-e1637033202251.png
END:VEVENT
BEGIN:VEVENT
DTSTART;TZID=America/New_York:20230804T183000
DTEND;TZID=America/New_York:20230804T213000
DTSTAMP:20260420T163308
CREATED:20230804T025225Z
LAST-MODIFIED:20230804T025225Z
UID:4548-1691173800-1691184600@mikepetrovichmusic.com
SUMMARY:Caffe Positano
DESCRIPTION:
URL:https://mikepetrovichmusic.com/event/caffe-positano-74/
LOCATION:Caffe Positano\, 3030 E Semoran Blvd\, Apopka\, FL\, 32703\, United States
ATTACH;FMTTYPE=image/jpeg:https://mikepetrovichmusic.com/wp-content/uploads/2015/08/Cafe-Positano-e1441037803689.jpeg
END:VEVENT
BEGIN:VEVENT
DTSTART;TZID=America/New_York:20230803T180000
DTEND;TZID=America/New_York:20230803T210000
DTSTAMP:20260420T163308
CREATED:20230804T025608Z
LAST-MODIFIED:20230804T025608Z
UID:4566-1691085600-1691096400@mikepetrovichmusic.com
SUMMARY:Sanford Brewing Company Maitland
DESCRIPTION:
URL:https://mikepetrovichmusic.com/event/sanford-brewing-company-maitland-67/
LOCATION:Sanford Brewing Company Maitland\, 160 Independence Lane\, Suite B\, Maitland\, FL\, 32751\, United States
ATTACH;FMTTYPE=image/png:https://mikepetrovichmusic.com/wp-content/uploads/2021/11/Sanford-Brewing-Company.png
END:VEVENT
BEGIN:VEVENT
DTSTART;TZID=America/New_York:20230730T120000
DTEND;TZID=America/New_York:20230730T150000
DTSTAMP:20260420T163308
CREATED:20230804T030206Z
LAST-MODIFIED:20230804T030206Z
UID:4604-1690718400-1690729200@mikepetrovichmusic.com
SUMMARY:The Vineyard Wine Company
DESCRIPTION:
URL:https://mikepetrovichmusic.com/event/the-vineyard-wine-company-72/
LOCATION:The Vineyard Wine Company\, 1140 Townpark Ave\, Suite 1260\, Lake Mary\, FL\, 32746\, United States
ATTACH;FMTTYPE=image/jpeg:https://mikepetrovichmusic.com/wp-content/uploads/2016/03/The-Vineyard-Wine-Company.jpg
END:VEVENT
BEGIN:VEVENT
DTSTART;TZID=America/New_York:20230729T180000
DTEND;TZID=America/New_York:20230729T210000
DTSTAMP:20260420T163308
CREATED:20230804T025905Z
LAST-MODIFIED:20230804T025905Z
UID:4584-1690653600-1690664400@mikepetrovichmusic.com
SUMMARY:Monte Vesuvio Italian Grill
DESCRIPTION:
URL:https://mikepetrovichmusic.com/event/monte-vesuvio-italian-grill-75/
LOCATION:Monte Vesuvio Italian Grill\, 5414 Deep Lake Rd\, Ste.1152\, Oviedo\, FL\, 32765\, United States
ATTACH;FMTTYPE=image/png:https://mikepetrovichmusic.com/wp-content/uploads/2021/11/Monte-Vesuvio-Italian-Grill-e1637033202251.png
END:VEVENT
BEGIN:VEVENT
DTSTART;TZID=America/New_York:20230728T183000
DTEND;TZID=America/New_York:20230728T213000
DTSTAMP:20260420T163308
CREATED:20230804T025204Z
LAST-MODIFIED:20230804T025204Z
UID:4546-1690569000-1690579800@mikepetrovichmusic.com
SUMMARY:Caffe Positano
DESCRIPTION:
URL:https://mikepetrovichmusic.com/event/caffe-positano-73/
LOCATION:Caffe Positano\, 3030 E Semoran Blvd\, Apopka\, FL\, 32703\, United States
ATTACH;FMTTYPE=image/jpeg:https://mikepetrovichmusic.com/wp-content/uploads/2015/08/Cafe-Positano-e1441037803689.jpeg
END:VEVENT
BEGIN:VEVENT
DTSTART;TZID=America/New_York:20230727T180000
DTEND;TZID=America/New_York:20230727T210000
DTSTAMP:20260420T163308
CREATED:20230804T025552Z
LAST-MODIFIED:20230804T025552Z
UID:4564-1690480800-1690491600@mikepetrovichmusic.com
SUMMARY:Sanford Brewing Company Maitland
DESCRIPTION:
URL:https://mikepetrovichmusic.com/event/sanford-brewing-company-maitland-66/
LOCATION:Sanford Brewing Company Maitland\, 160 Independence Lane\, Suite B\, Maitland\, FL\, 32751\, United States
ATTACH;FMTTYPE=image/png:https://mikepetrovichmusic.com/wp-content/uploads/2021/11/Sanford-Brewing-Company.png
END:VEVENT
BEGIN:VEVENT
DTSTART;TZID=America/New_York:20230723T120000
DTEND;TZID=America/New_York:20230723T150000
DTSTAMP:20260420T163308
CREATED:20230804T030153Z
LAST-MODIFIED:20230804T030153Z
UID:4602-1690113600-1690124400@mikepetrovichmusic.com
SUMMARY:The Vineyard Wine Company
DESCRIPTION:
URL:https://mikepetrovichmusic.com/event/the-vineyard-wine-company-71/
LOCATION:The Vineyard Wine Company\, 1140 Townpark Ave\, Suite 1260\, Lake Mary\, FL\, 32746\, United States
ATTACH;FMTTYPE=image/jpeg:https://mikepetrovichmusic.com/wp-content/uploads/2016/03/The-Vineyard-Wine-Company.jpg
END:VEVENT
BEGIN:VEVENT
DTSTART;TZID=America/New_York:20230722T180000
DTEND;TZID=America/New_York:20230722T210000
DTSTAMP:20260420T163308
CREATED:20230804T025854Z
LAST-MODIFIED:20230804T025854Z
UID:4582-1690048800-1690059600@mikepetrovichmusic.com
SUMMARY:Monte Vesuvio Italian Grill
DESCRIPTION:
URL:https://mikepetrovichmusic.com/event/monte-vesuvio-italian-grill-74/
LOCATION:Monte Vesuvio Italian Grill\, 5414 Deep Lake Rd\, Ste.1152\, Oviedo\, FL\, 32765\, United States
ATTACH;FMTTYPE=image/png:https://mikepetrovichmusic.com/wp-content/uploads/2021/11/Monte-Vesuvio-Italian-Grill-e1637033202251.png
END:VEVENT
BEGIN:VEVENT
DTSTART;TZID=America/New_York:20230722T090000
DTEND;TZID=America/New_York:20230722T130000
DTSTAMP:20260420T163308
CREATED:20230617T195224Z
LAST-MODIFIED:20230617T195224Z
UID:4537-1690016400-1690030800@mikepetrovichmusic.com
SUMMARY:Winter Garden Farmers Market
DESCRIPTION:
URL:https://mikepetrovichmusic.com/event/winter-garden-farmers-market-2/
LOCATION:Winter Garden Farmers Market\, 104 S. Lakeview Ave.\, Winter Garden\, FL\, 34787\, United States
ATTACH;FMTTYPE=image/gif:https://mikepetrovichmusic.com/wp-content/uploads/2015/08/WGfarmersMarket-e1438891182453.gif
END:VEVENT
BEGIN:VEVENT
DTSTART;TZID=America/New_York:20230721T183000
DTEND;TZID=America/New_York:20230721T213000
DTSTAMP:20260420T163308
CREATED:20230804T025150Z
LAST-MODIFIED:20230804T025150Z
UID:4544-1689964200-1689975000@mikepetrovichmusic.com
SUMMARY:Caffe Positano
DESCRIPTION:
URL:https://mikepetrovichmusic.com/event/caffe-positano-72/
LOCATION:Caffe Positano\, 3030 E Semoran Blvd\, Apopka\, FL\, 32703\, United States
ATTACH;FMTTYPE=image/jpeg:https://mikepetrovichmusic.com/wp-content/uploads/2015/08/Cafe-Positano-e1441037803689.jpeg
END:VEVENT
BEGIN:VEVENT
DTSTART;TZID=America/New_York:20230720T180000
DTEND;TZID=America/New_York:20230720T210000
DTSTAMP:20260420T163308
CREATED:20230804T025540Z
LAST-MODIFIED:20230804T025540Z
UID:4562-1689876000-1689886800@mikepetrovichmusic.com
SUMMARY:Sanford Brewing Company Maitland
DESCRIPTION:
URL:https://mikepetrovichmusic.com/event/sanford-brewing-company-maitland-65/
LOCATION:Sanford Brewing Company Maitland\, 160 Independence Lane\, Suite B\, Maitland\, FL\, 32751\, United States
ATTACH;FMTTYPE=image/png:https://mikepetrovichmusic.com/wp-content/uploads/2021/11/Sanford-Brewing-Company.png
END:VEVENT
BEGIN:VEVENT
DTSTART;TZID=America/New_York:20230716T120000
DTEND;TZID=America/New_York:20230716T150000
DTSTAMP:20260420T163308
CREATED:20230804T030138Z
LAST-MODIFIED:20230804T030138Z
UID:4600-1689508800-1689519600@mikepetrovichmusic.com
SUMMARY:The Vineyard Wine Company
DESCRIPTION:
URL:https://mikepetrovichmusic.com/event/the-vineyard-wine-company-70/
LOCATION:The Vineyard Wine Company\, 1140 Townpark Ave\, Suite 1260\, Lake Mary\, FL\, 32746\, United States
ATTACH;FMTTYPE=image/jpeg:https://mikepetrovichmusic.com/wp-content/uploads/2016/03/The-Vineyard-Wine-Company.jpg
END:VEVENT
BEGIN:VEVENT
DTSTART;TZID=America/New_York:20230715T180000
DTEND;TZID=America/New_York:20230715T210000
DTSTAMP:20260420T163308
CREATED:20230804T025843Z
LAST-MODIFIED:20230804T025843Z
UID:4580-1689444000-1689454800@mikepetrovichmusic.com
SUMMARY:Monte Vesuvio Italian Grill
DESCRIPTION:
URL:https://mikepetrovichmusic.com/event/monte-vesuvio-italian-grill-73/
LOCATION:Monte Vesuvio Italian Grill\, 5414 Deep Lake Rd\, Ste.1152\, Oviedo\, FL\, 32765\, United States
ATTACH;FMTTYPE=image/png:https://mikepetrovichmusic.com/wp-content/uploads/2021/11/Monte-Vesuvio-Italian-Grill-e1637033202251.png
END:VEVENT
BEGIN:VEVENT
DTSTART;TZID=America/New_York:20230714T183000
DTEND;TZID=America/New_York:20230714T213000
DTSTAMP:20260420T163308
CREATED:20230804T025135Z
LAST-MODIFIED:20230804T025135Z
UID:4542-1689359400-1689370200@mikepetrovichmusic.com
SUMMARY:Caffe Positano
DESCRIPTION:
URL:https://mikepetrovichmusic.com/event/caffe-positano-71/
LOCATION:Caffe Positano\, 3030 E Semoran Blvd\, Apopka\, FL\, 32703\, United States
ATTACH;FMTTYPE=image/jpeg:https://mikepetrovichmusic.com/wp-content/uploads/2015/08/Cafe-Positano-e1441037803689.jpeg
END:VEVENT
BEGIN:VEVENT
DTSTART;TZID=America/New_York:20230713T180000
DTEND;TZID=America/New_York:20230713T210000
DTSTAMP:20260420T163308
CREATED:20230804T025529Z
LAST-MODIFIED:20230804T025529Z
UID:4560-1689271200-1689282000@mikepetrovichmusic.com
SUMMARY:Sanford Brewing Company Maitland
DESCRIPTION:
URL:https://mikepetrovichmusic.com/event/sanford-brewing-company-maitland-64/
LOCATION:Sanford Brewing Company Maitland\, 160 Independence Lane\, Suite B\, Maitland\, FL\, 32751\, United States
ATTACH;FMTTYPE=image/png:https://mikepetrovichmusic.com/wp-content/uploads/2021/11/Sanford-Brewing-Company.png
END:VEVENT
BEGIN:VEVENT
DTSTART;TZID=America/New_York:20230709T120000
DTEND;TZID=America/New_York:20230709T150000
DTSTAMP:20260420T163308
CREATED:20230804T030126Z
LAST-MODIFIED:20230804T030126Z
UID:4598-1688904000-1688914800@mikepetrovichmusic.com
SUMMARY:The Vineyard Wine Company
DESCRIPTION:
URL:https://mikepetrovichmusic.com/event/the-vineyard-wine-company-69/
LOCATION:The Vineyard Wine Company\, 1140 Townpark Ave\, Suite 1260\, Lake Mary\, FL\, 32746\, United States
ATTACH;FMTTYPE=image/jpeg:https://mikepetrovichmusic.com/wp-content/uploads/2016/03/The-Vineyard-Wine-Company.jpg
END:VEVENT
BEGIN:VEVENT
DTSTART;TZID=America/New_York:20230708T180000
DTEND;TZID=America/New_York:20230708T210000
DTSTAMP:20260420T163309
CREATED:20230804T025831Z
LAST-MODIFIED:20230804T025831Z
UID:4578-1688839200-1688850000@mikepetrovichmusic.com
SUMMARY:Monte Vesuvio Italian Grill
DESCRIPTION:
URL:https://mikepetrovichmusic.com/event/monte-vesuvio-italian-grill-72/
LOCATION:Monte Vesuvio Italian Grill\, 5414 Deep Lake Rd\, Ste.1152\, Oviedo\, FL\, 32765\, United States
ATTACH;FMTTYPE=image/png:https://mikepetrovichmusic.com/wp-content/uploads/2021/11/Monte-Vesuvio-Italian-Grill-e1637033202251.png
END:VEVENT
BEGIN:VEVENT
DTSTART;TZID=America/New_York:20230707T183000
DTEND;TZID=America/New_York:20230707T213000
DTSTAMP:20260420T163309
CREATED:20230804T025116Z
LAST-MODIFIED:20230804T025116Z
UID:4540-1688754600-1688765400@mikepetrovichmusic.com
SUMMARY:Caffe Positano
DESCRIPTION:
URL:https://mikepetrovichmusic.com/event/caffe-positano-67/
LOCATION:Caffe Positano\, 3030 E Semoran Blvd\, Apopka\, FL\, 32703\, United States
ATTACH;FMTTYPE=image/jpeg:https://mikepetrovichmusic.com/wp-content/uploads/2015/08/Cafe-Positano-e1441037803689.jpeg
END:VEVENT
BEGIN:VEVENT
DTSTART;TZID=America/New_York:20230706T180000
DTEND;TZID=America/New_York:20230706T210000
DTSTAMP:20260420T163309
CREATED:20230804T025517Z
LAST-MODIFIED:20230804T025517Z
UID:4558-1688666400-1688677200@mikepetrovichmusic.com
SUMMARY:Sanford Brewing Company Maitland
DESCRIPTION:
URL:https://mikepetrovichmusic.com/event/sanford-brewing-company-maitland-60/
LOCATION:Sanford Brewing Company Maitland\, 160 Independence Lane\, Suite B\, Maitland\, FL\, 32751\, United States
ATTACH;FMTTYPE=image/png:https://mikepetrovichmusic.com/wp-content/uploads/2021/11/Sanford-Brewing-Company.png
END:VEVENT
BEGIN:VEVENT
DTSTART;TZID=America/New_York:20230702T120000
DTEND;TZID=America/New_York:20230702T150000
DTSTAMP:20260420T163309
CREATED:20230804T030113Z
LAST-MODIFIED:20230804T030113Z
UID:4596-1688299200-1688310000@mikepetrovichmusic.com
SUMMARY:The Vineyard Wine Company
DESCRIPTION:
URL:https://mikepetrovichmusic.com/event/the-vineyard-wine-company-68/
LOCATION:The Vineyard Wine Company\, 1140 Townpark Ave\, Suite 1260\, Lake Mary\, FL\, 32746\, United States
ATTACH;FMTTYPE=image/jpeg:https://mikepetrovichmusic.com/wp-content/uploads/2016/03/The-Vineyard-Wine-Company.jpg
END:VEVENT
BEGIN:VEVENT
DTSTART;TZID=America/New_York:20230701T180000
DTEND;TZID=America/New_York:20230701T210000
DTSTAMP:20260420T163309
CREATED:20230804T025820Z
LAST-MODIFIED:20230804T025820Z
UID:4576-1688234400-1688245200@mikepetrovichmusic.com
SUMMARY:Monte Vesuvio Italian Grill
DESCRIPTION:
URL:https://mikepetrovichmusic.com/event/monte-vesuvio-italian-grill-71/
LOCATION:Monte Vesuvio Italian Grill\, 5414 Deep Lake Rd\, Ste.1152\, Oviedo\, FL\, 32765\, United States
ATTACH;FMTTYPE=image/png:https://mikepetrovichmusic.com/wp-content/uploads/2021/11/Monte-Vesuvio-Italian-Grill-e1637033202251.png
END:VEVENT
BEGIN:VEVENT
DTSTART;TZID=America/New_York:20230630T183000
DTEND;TZID=America/New_York:20230630T213000
DTSTAMP:20260420T163309
CREATED:20230222T011407Z
LAST-MODIFIED:20230222T011407Z
UID:4447-1688149800-1688160600@mikepetrovichmusic.com
SUMMARY:Caffe Positano
DESCRIPTION:
URL:https://mikepetrovichmusic.com/event/caffe-positano-70/
LOCATION:Caffe Positano\, 3030 E Semoran Blvd\, Apopka\, FL\, 32703\, United States
ATTACH;FMTTYPE=image/jpeg:https://mikepetrovichmusic.com/wp-content/uploads/2015/08/Cafe-Positano-e1441037803689.jpeg
END:VEVENT
BEGIN:VEVENT
DTSTART;TZID=America/New_York:20230629T180000
DTEND;TZID=America/New_York:20230629T210000
DTSTAMP:20260420T163309
CREATED:20230222T010817Z
LAST-MODIFIED:20230222T010817Z
UID:4403-1688061600-1688072400@mikepetrovichmusic.com
SUMMARY:Sanford Brewing Company Maitland
DESCRIPTION:
URL:https://mikepetrovichmusic.com/event/sanford-brewing-company-maitland-63/
LOCATION:Sanford Brewing Company Maitland\, 160 Independence Lane\, Suite B\, Maitland\, FL\, 32751\, United States
ATTACH;FMTTYPE=image/png:https://mikepetrovichmusic.com/wp-content/uploads/2021/11/Sanford-Brewing-Company.png
END:VEVENT
BEGIN:VEVENT
DTSTART;TZID=America/New_York:20230625T120000
DTEND;TZID=America/New_York:20230625T150000
DTSTAMP:20260420T163309
CREATED:20230222T012244Z
LAST-MODIFIED:20230222T012244Z
UID:4488-1687694400-1687705200@mikepetrovichmusic.com
SUMMARY:The Vineyard Wine Company
DESCRIPTION:
URL:https://mikepetrovichmusic.com/event/the-vineyard-wine-company-67/
LOCATION:The Vineyard Wine Company\, 1140 Townpark Ave\, Suite 1260\, Lake Mary\, FL\, 32746\, United States
ATTACH;FMTTYPE=image/jpeg:https://mikepetrovichmusic.com/wp-content/uploads/2016/03/The-Vineyard-Wine-Company.jpg
END:VEVENT
END:VCALENDAR