BEGIN:VCALENDAR
VERSION:2.0
PRODID:-//Michael Petrovich - ECPv5.14.1//NONSGML v1.0//EN
CALSCALE:GREGORIAN
METHOD:PUBLISH
X-WR-CALNAME:Michael Petrovich
X-ORIGINAL-URL:https://mikepetrovichmusic.com
X-WR-CALDESC:Events for Michael Petrovich
REFRESH-INTERVAL;VALUE=DURATION:PT1H
X-Robots-Tag:noindex
X-PUBLISHED-TTL:PT1H
BEGIN:VTIMEZONE
TZID:America/New_York
BEGIN:DAYLIGHT
TZOFFSETFROM:-0500
TZOFFSETTO:-0400
TZNAME:EDT
DTSTART:20260308T070000
END:DAYLIGHT
BEGIN:STANDARD
TZOFFSETFROM:-0400
TZOFFSETTO:-0500
TZNAME:EST
DTSTART:20261101T060000
END:STANDARD
END:VTIMEZONE
BEGIN:VEVENT
DTSTART;TZID=America/New_York:20260620T110000
DTEND;TZID=America/New_York:20260620T140000
DTSTAMP:20260422T080644
CREATED:20260422T021625Z
LAST-MODIFIED:20260422T021734Z
UID:5609-1781953200-1781964000@mikepetrovichmusic.com
SUMMARY:Orlando International Airport - Food Court (B-Side)
DESCRIPTION:
URL:https://mikepetrovichmusic.com/event/orlando-international-airport-food-court-a-side-2/
LOCATION:Orlando International Airport\, 1 Jeff Fuqua Blvd\, Orlando\, FL\, 32827\, United States
ATTACH;FMTTYPE=image/png:https://mikepetrovichmusic.com/wp-content/uploads/2024/11/Orlando-International-Airport.png
END:VEVENT
END:VCALENDAR