BEGIN:VCALENDAR
VERSION:2.0
PRODID:-//Michael Petrovich - ECPv5.14.1//NONSGML v1.0//EN
CALSCALE:GREGORIAN
METHOD:PUBLISH
X-WR-CALNAME:Michael Petrovich
X-ORIGINAL-URL:https://mikepetrovichmusic.com
X-WR-CALDESC:Events for Michael Petrovich
REFRESH-INTERVAL;VALUE=DURATION:PT1H
X-Robots-Tag:noindex
X-PUBLISHED-TTL:PT1H
BEGIN:VTIMEZONE
TZID:America/New_York
BEGIN:DAYLIGHT
TZOFFSETFROM:-0500
TZOFFSETTO:-0400
TZNAME:EDT
DTSTART:20240310T070000
END:DAYLIGHT
BEGIN:STANDARD
TZOFFSETFROM:-0400
TZOFFSETTO:-0500
TZNAME:EST
DTSTART:20241103T060000
END:STANDARD
END:VTIMEZONE
BEGIN:VEVENT
DTSTART;TZID=America/New_York:20241209T110000
DTEND;TZID=America/New_York:20241209T140000
DTSTAMP:20260425T122157
CREATED:20250122T030058Z
LAST-MODIFIED:20250122T030058Z
UID:5225-1733742000-1733752800@mikepetrovichmusic.com
SUMMARY:Orlando International Airport - Universal Orlando Store (Terminal B)
DESCRIPTION:
URL:https://mikepetrovichmusic.com/event/orlando-international-airport-universal-orlando-store-terminal-b-2/
LOCATION:Orlando International Airport\, 1 Jeff Fuqua Blvd\, Orlando\, FL\, 32827\, United States
ATTACH;FMTTYPE=image/png:https://mikepetrovichmusic.com/wp-content/uploads/2024/11/Orlando-International-Airport.png
END:VEVENT
END:VCALENDAR