BEGIN:VCALENDAR
VERSION:2.0
PRODID:-//Michael Petrovich - ECPv5.14.1//NONSGML v1.0//EN
CALSCALE:GREGORIAN
METHOD:PUBLISH
X-WR-CALNAME:Michael Petrovich
X-ORIGINAL-URL:https://mikepetrovichmusic.com
X-WR-CALDESC:Events for Michael Petrovich
REFRESH-INTERVAL;VALUE=DURATION:PT1H
X-Robots-Tag:noindex
X-PUBLISHED-TTL:PT1H
BEGIN:VTIMEZONE
TZID:America/New_York
BEGIN:DAYLIGHT
TZOFFSETFROM:-0500
TZOFFSETTO:-0400
TZNAME:EDT
DTSTART:20230312T070000
END:DAYLIGHT
BEGIN:STANDARD
TZOFFSETFROM:-0400
TZOFFSETTO:-0500
TZNAME:EST
DTSTART:20231105T060000
END:STANDARD
END:VTIMEZONE
BEGIN:VEVENT
DTSTART;TZID=America/New_York:20230831T180000
DTEND;TZID=America/New_York:20230831T210000
DTSTAMP:20260420T121154
CREATED:20230804T025707Z
LAST-MODIFIED:20230804T025707Z
UID:4574-1693504800-1693515600@mikepetrovichmusic.com
SUMMARY:Sanford Brewing Company Maitland
DESCRIPTION:
URL:https://mikepetrovichmusic.com/event/sanford-brewing-company-maitland-71/
LOCATION:Sanford Brewing Company Maitland\, 160 Independence Lane\, Suite B\, Maitland\, FL\, 32751\, United States
ATTACH;FMTTYPE=image/png:https://mikepetrovichmusic.com/wp-content/uploads/2021/11/Sanford-Brewing-Company.png
END:VEVENT
END:VCALENDAR